BEGIN:VCALENDAR
VERSION:2.0
PRODID:-//PreventEd - ECPv6.15.20//NONSGML v1.0//EN
CALSCALE:GREGORIAN
METHOD:PUBLISH
X-WR-CALNAME:PreventEd
X-ORIGINAL-URL:https://prevented.org
X-WR-CALDESC:Events for PreventEd
REFRESH-INTERVAL;VALUE=DURATION:PT1H
X-Robots-Tag:noindex
X-PUBLISHED-TTL:PT1H
BEGIN:VTIMEZONE
TZID:UTC
BEGIN:STANDARD
TZOFFSETFROM:+0000
TZOFFSETTO:+0000
TZNAME:UTC
DTSTART:20250101T000000
END:STANDARD
END:VTIMEZONE
BEGIN:VEVENT
DTSTART;TZID=UTC:20260424T110000
DTEND;TZID=UTC:20260424T133000
DTSTAMP:20260424T093030
CREATED:20260121T234950Z
LAST-MODIFIED:20260409T194530Z
UID:4638-1777028400-1777037400@prevented.org
SUMMARY:2026 PreventEd Spring Awards Luncheon
DESCRIPTION:
URL:https://prevented.org/event/2026-prevented-spring-awards-luncheon/
LOCATION:LiUNA Event Center\, 4532 S Lindbergh Blvd\, St. Louis\, MO\, 63127\, United States
CATEGORIES:Fundraising Events
ATTACH;FMTTYPE=image/png:https://prevented.org/wp-content/uploads/2026/01/SpringAwards_web.png
END:VEVENT
END:VCALENDAR