BEGIN:VCALENDAR
VERSION:2.0
PRODID:-//PreventEd - ECPv6.15.20//NONSGML v1.0//EN
CALSCALE:GREGORIAN
METHOD:PUBLISH
X-WR-CALNAME:PreventEd
X-ORIGINAL-URL:https://prevented.org
X-WR-CALDESC:Events for PreventEd
REFRESH-INTERVAL;VALUE=DURATION:PT1H
X-Robots-Tag:noindex
X-PUBLISHED-TTL:PT1H
BEGIN:VTIMEZONE
TZID:UTC
BEGIN:STANDARD
TZOFFSETFROM:+0000
TZOFFSETTO:+0000
TZNAME:UTC
DTSTART:20240101T000000
END:STANDARD
END:VTIMEZONE
BEGIN:VEVENT
DTSTART;TZID=UTC:20250811T120000
DTEND;TZID=UTC:20250811T130000
DTSTAMP:20260420T060804
CREATED:20250515T202112Z
LAST-MODIFIED:20260311T215136Z
UID:4501-1754913600-1754917200@prevented.org
SUMMARY:Adverse Childhood Experiences (ACEs)\, Trauma\, and Substance Use Training
DESCRIPTION:
URL:https://prevented.org/event/adverse-childhood-experiences-aces-trauma-and-substance-use-training-2/
CATEGORIES:Professional Trainings
ATTACH;FMTTYPE=image/jpeg:https://prevented.org/wp-content/uploads/2026/03/ACEs_IG-1.jpg
END:VEVENT
END:VCALENDAR